BEGIN:VCALENDAR
VERSION:2.0
PRODID:-//DHV - Bezirk Breisgau - ECPv6.15.20//NONSGML v1.0//EN
CALSCALE:GREGORIAN
METHOD:PUBLISH
X-WR-CALNAME:DHV - Bezirk Breisgau
X-ORIGINAL-URL:https://www.dhv-breisgau.de
X-WR-CALDESC:Veranstaltungen für DHV - Bezirk Breisgau
REFRESH-INTERVAL;VALUE=DURATION:PT1H
X-Robots-Tag:noindex
X-PUBLISHED-TTL:PT1H
BEGIN:VTIMEZONE
TZID:Europe/Berlin
BEGIN:DAYLIGHT
TZOFFSETFROM:+0100
TZOFFSETTO:+0200
TZNAME:CEST
DTSTART:20250330T010000
END:DAYLIGHT
BEGIN:STANDARD
TZOFFSETFROM:+0200
TZOFFSETTO:+0100
TZNAME:CET
DTSTART:20251026T010000
END:STANDARD
BEGIN:DAYLIGHT
TZOFFSETFROM:+0100
TZOFFSETTO:+0200
TZNAME:CEST
DTSTART:20260329T010000
END:DAYLIGHT
BEGIN:STANDARD
TZOFFSETFROM:+0200
TZOFFSETTO:+0100
TZNAME:CET
DTSTART:20261025T010000
END:STANDARD
BEGIN:DAYLIGHT
TZOFFSETFROM:+0100
TZOFFSETTO:+0200
TZNAME:CEST
DTSTART:20270328T010000
END:DAYLIGHT
BEGIN:STANDARD
TZOFFSETFROM:+0200
TZOFFSETTO:+0100
TZNAME:CET
DTSTART:20271031T010000
END:STANDARD
END:VTIMEZONE
BEGIN:VEVENT
DTSTART;TZID=Europe/Berlin:20260418T200000
DTEND;TZID=Europe/Berlin:20260418T220000
DTSTAMP:20260419T154048
CREATED:20260216T095732Z
LAST-MODIFIED:20260216T095732Z
UID:4125-1776542400-1776549600@www.dhv-breisgau.de
SUMMARY:Jahreskonzert "Steine"
DESCRIPTION:Jahreskonzert unter Mitwirkung des Schülerorchesters „Chillies“ und des Männergesangsvereins St. Märgen Motto „Steine“ \nFür Speisen & Getränke ist gesorgt!
URL:https://www.dhv-breisgau.de/events/jahreskonzert-steine/
LOCATION:Schwarzwaldhalle St. Märgen\, Sportplatz 3\, St. Märgen\, 79274\, Deutschland
CATEGORIES:Veranstaltungen im Bezirk
ATTACH;FMTTYPE=image/jpeg:https://www.dhv-breisgau.de/wp-content/uploads/2026/02/2026-04-18_chill-out_Jahreskonzert_Steine.jpg
ORGANIZER;CN="Akkordeonorchester 'Chill Out' e. V. St. M%C3%A4rgen":MAILTO:vorstand@chillout-hochschwarzwald.de
END:VEVENT
BEGIN:VEVENT
DTSTART;TZID=Europe/Berlin:20260418T193000
DTEND;TZID=Europe/Berlin:20260418T223000
DTSTAMP:20260419T154048
CREATED:20260319T193422Z
LAST-MODIFIED:20260319T193422Z
UID:4180-1776540600-1776551400@www.dhv-breisgau.de
SUMMARY:KonzerTheater der Akkordeonspielgemeinschaft Teningen
DESCRIPTION:Herzliche Einladung zu unserem Frühjahrskonzert mit Musik und Theaterstück! \n  \nDen ersten – musikalischen Teil – gestalten das Ensemble „Sollertia“\, alle Aktiven „Von Klein bis Groß“\, sowie das Konzertorchester Teningen-Eichstetten. \nMit bekannten Melodien und Ohrwürmern werden die Musiker im Alter von 7 bis über 70 Jahren ein buntes\, abwechslungsreiches Programm bieten. \nDas Orchester macht dabei ein „Farben-Spiel“\, denn in jedem seiner Stücke steckt eine Farbe und auch optisch geht es „kunterbunt“ zu! \nIm zweiten Teil des Abends präsentiert die vereinseigene Theatergruppe das Lustspiel „De Kuehflade-Prinz“: Hatte der englische König eine Affaire in Südbaden – und wird Bauer Fritz nun Thronfolger? \n  \nMit Bewirtung und Bar. Herzlich willkommen! \n8\,00 VV / 9\,00 AK
URL:https://www.dhv-breisgau.de/events/konzertheater-der-akkordeonspielgemeinschaft-teningen/
LOCATION:Winzerhalle Köndringen\, Tscheulinstraße 29\, Teningen\, 79331\, Deutschland
CATEGORIES:Veranstaltungen im Bezirk
ATTACH;FMTTYPE=image/jpeg:https://www.dhv-breisgau.de/wp-content/uploads/2026/03/2026-04-18_Teningen_KonzerTheater.jpg
END:VEVENT
BEGIN:VEVENT
DTSTART;TZID=Europe/Berlin:20260415T200000
DTEND;TZID=Europe/Berlin:20260415T220000
DTSTAMP:20260419T154048
CREATED:20260414T194331Z
LAST-MODIFIED:20260414T194331Z
UID:4248-1776283200-1776290400@www.dhv-breisgau.de
SUMMARY:akkorde@on.orch
DESCRIPTION:Kooperationsprojekt mit der IFK – Interessengemeinschaft Freiburger Komponistinnen und Komponisten (IFK) e.V. \n  \nMit Werken von Martin Bergande\, Roland Breitenfeld\, Mesias Maiguashca\, Frank Michael\, Wolfgang Motz\, Mia Schmidt\, Thomas Wenk. \n  \nHöhe des Eintrittsgeld\n15 EUR\, erm. 10 EUR
URL:https://www.dhv-breisgau.de/events/akkordeon-orch/
LOCATION:Bürgerhaus Seepark\, Freiburg\, Gerhart-Hauptmann-Straße 1\, Freiburg\, 79110\, Germany
CATEGORIES:Veranstaltungen im Bezirk
ATTACH;FMTTYPE=image/jpeg:https://www.dhv-breisgau.de/wp-content/uploads/2026/04/2026-04-15_efac_konzert.jpg
ORGANIZER;CN="Freiburger Akkordeon Orchester":MAILTO:info@efac.de
END:VEVENT
BEGIN:VEVENT
DTSTART;TZID=Europe/Berlin:20260412T080000
DTEND;TZID=Europe/Berlin:20260412T170000
DTSTAMP:20260419T154048
CREATED:20260412T113808Z
LAST-MODIFIED:20260412T113808Z
UID:4236-1775980800-1776013200@www.dhv-breisgau.de
SUMMARY:Jugendnachmittag der Akkordeon-Trachtengruppe Glottertal e.V.
DESCRIPTION:Die Kinder und Jugendlichen aus der Pfiffikus-\, Kinder- und Jugendtanzgruppe\, aus dem Jugendorchester und dem Hackbrettensemble präsentieren an diesem Nachmittag ihr Können. \n  \nIn diesem Jahr wird der Jugendnachmittag wieder einmal „traditionell“\, d.h. die Kinder- und Jugendlichen treten in ihrer Glottertäler Tracht auf und präsentieren vorwiegend traditionelle Volkstänze und mehr. \n  \nGeniesen Sie einen unterhaltsamen Nachmittag bei Kaffee\, Kuchen oder herzhaften Snacks und unterstützen Sie die Jugendlichen durch Ihren Applaus! \nDer Eintritt ist frei.
URL:https://www.dhv-breisgau.de/events/jugendnachmittag-der-akkordeon-trachtengruppe-glottertal-e-v/
LOCATION:Eichberghalle Glottertal\, Rathausweg 12\, Glottertal\, 79286\, Deutschland
CATEGORIES:Veranstaltungen im Bezirk
ORGANIZER;CN="Akkordeon-Trachtengruppe Glottertal e.V.":MAILTO:info@akkordeon-trachtengruppe.de
END:VEVENT
BEGIN:VEVENT
DTSTART;TZID=Europe/Berlin:20260329T143000
DTEND;TZID=Europe/Berlin:20260329T173000
DTSTAMP:20260419T154048
CREATED:20260319T193643Z
LAST-MODIFIED:20260319T193643Z
UID:4184-1774794600-1774805400@www.dhv-breisgau.de
SUMMARY:Akkordeonkonzert der Seniorenorchester
DESCRIPTION:Es spielen das Seniorenorchester  Wolfenweiler-Schallstadt\,  sowie das Orchester Pfaffenweiler. \nEin musikalischer Nachmittag bei Kaffee und Kuchen.
URL:https://www.dhv-breisgau.de/events/akkordeonkonzert-der-seniorenorchester/
LOCATION:Evangelisches Gemeindehaus Wolfenweiler\, Kirchstr.\, Schallstadt\, 79227\, Germany
CATEGORIES:Veranstaltungen im Bezirk
END:VEVENT
BEGIN:VEVENT
DTSTART;TZID=Europe/Berlin:20260328T190000
DTEND;TZID=Europe/Berlin:20260328T220000
DTSTAMP:20260419T154048
CREATED:20260302T185002Z
LAST-MODIFIED:20260302T185002Z
UID:4159-1774724400-1774735200@www.dhv-breisgau.de
SUMMARY:Doppelkonzert Seniorenorchester Heitersheim und Seniorenverbandsblasorchester
DESCRIPTION:Im Rahmen unseres 75. Jubiläums präsentiert Ihnen das Seniorenorchester des Akkordeon-Orchesters Heitersheim e.V. unter der Leitung von Michael Huck ein abwechslungsreiches Doppelkonzert mit dem Markgräfler Seniorenverbandsblasorchester. Freuen Sie sich auf diesen besonderen Abend.
URL:https://www.dhv-breisgau.de/events/doppelkonzert-seniorenorchester-heitersheim-und-seniorenverbandsblasorchester/
LOCATION:Malteserhalle Heitersheim\, Jahnstraße 17\, Heitersheim\, 79423\, Deutschland
CATEGORIES:Veranstaltungen im Bezirk
ATTACH;FMTTYPE=image/jpeg:https://www.dhv-breisgau.de/wp-content/uploads/2026/03/2026-03-28_AOHeiterhsiem_Konzert.jpg
ORGANIZER;CN="Akkordeon-Orchester Heitersheim e.V.":MAILTO:info@ao-heitersheim.de
END:VEVENT
BEGIN:VEVENT
DTSTART;TZID=Europe/Berlin:20260328T190000
DTEND;TZID=Europe/Berlin:20260328T220000
DTSTAMP:20260419T154048
CREATED:20251008T145113Z
LAST-MODIFIED:20251008T145113Z
UID:3794-1774724400-1774735200@www.dhv-breisgau.de
SUMMARY:Jubiläumskonzert des Akkordeonclub Kirchzarten e.V.
DESCRIPTION:
URL:https://www.dhv-breisgau.de/events/jubilaeumskonzert-des-akkordeonclub-kirchzarten-e-v/
LOCATION:Black-Forest-Studios Kirchzarten (Kurhaus)\, Dietenbacher Str. 22\, Kirchzarten\, 79199\, Deutschland
CATEGORIES:Veranstaltungen im Bezirk
END:VEVENT
BEGIN:VEVENT
DTSTART;TZID=Europe/Berlin:20260322T110000
DTEND;TZID=Europe/Berlin:20260322T121500
DTSTAMP:20260419T154048
CREATED:20260225T193015Z
LAST-MODIFIED:20260225T193015Z
UID:4150-1774177200-1774181700@www.dhv-breisgau.de
SUMMARY:Matinée der Akkordeon-Gilde Freiburg e. V.
DESCRIPTION:
URL:https://www.dhv-breisgau.de/events/matinee-der-akkordeon-gilde-freiburg-e-v/
LOCATION:Bürgerhaus Zähringen\, Lameystr. 2\, Freiburg\, 79108\, Deutschland
CATEGORIES:Veranstaltungen im Bezirk
ATTACH;FMTTYPE=image/jpeg:https://www.dhv-breisgau.de/wp-content/uploads/2026/02/2026-03-22_Akk-Gilde-Freiburg_Martinee.jpg
ORGANIZER;CN="Akkordeon-Gilde Freiburg e.V.":MAILTO:info@akkordeon-gilde-freiburg.de
END:VEVENT
BEGIN:VEVENT
DTSTART;TZID=Europe/Berlin:20260322T100000
DTEND;TZID=Europe/Berlin:20260322T120000
DTSTAMP:20260419T154048
CREATED:20250317T194842Z
LAST-MODIFIED:20260203T210321Z
UID:3486-1774173600-1774180800@www.dhv-breisgau.de
SUMMARY:Bezirksversammlung 2026
DESCRIPTION:Einladung Bezirksversammlung 22.03.2026\nAnfahrtsplan Gemeindehaus Teningen
URL:https://www.dhv-breisgau.de/events/bezirksversammlung-2026/
LOCATION:evangelischen Gemeindehaus\, Teningen\, Martin-Luther-Straße 8a\, Teningen\,\, 79331\, Germany
CATEGORIES:Veranstaltungen im Bezirk
ORGANIZER;CN="DHV - Bezirk Breisgau e.V.":MAILTO:kontakt@dhv-breisgau.de
END:VEVENT
BEGIN:VEVENT
DTSTART;TZID=Europe/Berlin:20260321T190000
DTEND;TZID=Europe/Berlin:20260321T235900
DTSTAMP:20260419T154048
CREATED:20260120T201212Z
LAST-MODIFIED:20260120T201212Z
UID:4069-1774119600-1774137540@www.dhv-breisgau.de
SUMMARY:Akkordeon im Frühling
DESCRIPTION:Als einmaliges Event veranstalten wir ein Frühlingskonzert am 21.03. in der Sommerberghalle. Der Einlass ist ab 18 Uhr. Eintritt Erwachsene 6\,- € Eintritt Kinder frei! \n  \nEs erwarten Sie Auftritte unserer drei Orchester\, reichlich Essen & Getränke\, sowie je eine Kinder- und Erwachsenentombola. \n  \nWir freuen uns auf Ihren Besuch!
URL:https://www.dhv-breisgau.de/events/akkordeon-im-fruehling/
LOCATION:Sommerberghalle Buchenbach\, Schulstraße 7\, Buchenbach\, 79256\, Deutschland
CATEGORIES:Veranstaltungen im Bezirk
ATTACH;FMTTYPE=image/jpeg:https://www.dhv-breisgau.de/wp-content/uploads/2026/01/2026-03-21_Hoellental_AkkordeonImFruehling.jpg
ORGANIZER;CN="Akkordeonclub H%C3%B6llental e.V.":MAILTO:info@akkhoellental.de
END:VEVENT
END:VCALENDAR